BEGIN:VCALENDAR
VERSION:2.0
PRODID:-//The Tufted Puffin - ECPv6.15.20//NONSGML v1.0//EN
CALSCALE:GREGORIAN
METHOD:PUBLISH
X-ORIGINAL-URL:https://thetuftedpuffin.com
X-WR-CALDESC:Events for The Tufted Puffin
REFRESH-INTERVAL;VALUE=DURATION:PT1H
X-Robots-Tag:noindex
X-PUBLISHED-TTL:PT1H
BEGIN:VTIMEZONE
TZID:UTC
BEGIN:STANDARD
TZOFFSETFROM:+0000
TZOFFSETTO:+0000
TZNAME:UTC
DTSTART:20250101T000000
END:STANDARD
END:VTIMEZONE
BEGIN:VEVENT
DTSTART;TZID=UTC:20260417T100000
DTEND;TZID=UTC:20260420T223000
DTSTAMP:20260424T103651
CREATED:20260409T191716Z
LAST-MODIFIED:20260409T191918Z
UID:16860-1776420000-1776724200@thetuftedpuffin.com
SUMMARY:8th Annual Seward 420 Celebration
DESCRIPTION:The Tufted Puffin 8th Annual 420 Celebration in Seward. Live DJ’s\, Bands\, Vendors\, Food Trucks and more. Ganja Yogan\, Blunt Rolling Contest  4/17\, 4/18\, 4/19\, 4/20.
URL:https://thetuftedpuffin.com/event/8th-annual-seward-420-celebration/
LOCATION:The Tufted Puffin – Seward Harbor\, 408 Port Ave\, Seward\, AK\, United States
ATTACH;FMTTYPE=application/pdf:https://thetuftedpuffin.com/wp-content/uploads/2026/04/TTP_420-Poster_2026_18x24-in_PRINT-READY-2-1.pdf
END:VEVENT
END:VCALENDAR