BEGIN:VCALENDAR
VERSION:2.0
PRODID:-//The Tufted Puffin - ECPv6.15.20//NONSGML v1.0//EN
CALSCALE:GREGORIAN
METHOD:PUBLISH
X-WR-CALNAME:The Tufted Puffin
X-ORIGINAL-URL:https://thetuftedpuffin.com
X-WR-CALDESC:Events for The Tufted Puffin
REFRESH-INTERVAL;VALUE=DURATION:PT1H
X-Robots-Tag:noindex
X-PUBLISHED-TTL:PT1H
BEGIN:VTIMEZONE
TZID:UTC
BEGIN:STANDARD
TZOFFSETFROM:+0000
TZOFFSETTO:+0000
TZNAME:UTC
DTSTART:20230101T000000
END:STANDARD
END:VTIMEZONE
BEGIN:VEVENT
DTSTART;TZID=UTC:20250420T103000
DTEND;TZID=UTC:20250420T113000
DTSTAMP:20260424T132649
CREATED:20250404T202806Z
LAST-MODIFIED:20250404T202806Z
UID:16828-1745145000-1745148600@thetuftedpuffin.com
SUMMARY:Wake N Bake Yoga With Lady Grey
DESCRIPTION:Wake & Bake Yoga with Lady Grey – A High-Vibe 420 Celebration Experience \n‍♀️ Breathe in\, stretch out\, and elevate your 420 weekend! ‍♂️ \nAs part of The Tufted Puffin’s 7th Annual 420 Celebration\, we’re bringing you a one-of-a-kind Wake & Bake Yoga Session\, led by none other than Lady Grey—a prominent figure in Alaska’s cannabis industry and an advocate for mindful cannabis consumption. \nWhat to Expect: \n A Morning of Movement & Mindfulness – Start your day with a gentle\, guided yoga flow designed to align your body\, relax your mind\, and prepare you for a full day of 420 festivities. \n Elevated Intentions – This is a cannabis-friendly class\, perfect for those looking to enhance their practice with mindful consumption (BYO). \n Soothing Sounds & High Vibes – Flow to the sounds of ambient beats and nature-inspired rhythms\, creating the ultimate Alaskan outdoor yoga experience. \n Post-Yoga Social – Stick around after class to sip on CBD-infused teas\, connect with fellow participants\, and chat with Lady Grey about the benefits of cannabis and movement. \nWhy You Should Join: \n•Perfect for all levels – Whether you’re a seasoned yogi or a total beginner\, this session is open to everyone. \n•A unique 420 experience – Combine movement\, mindfulness\, and cannabis in a setting that promotes relaxation and wellness. \n•Hosted by Lady Grey – A respected cannabis educator\, advocate\, and wellness expert in Alaska’s cannabis community. \n WHERE: The Tufted Puffin Recreational Dispensary & Cannabis Café | 408 Port Ave\, Seward\, AK \n WHEN: April 20\, 2025 | 10:30 AM \n MUST BE 21+ TO PARTICIPATE \nStart your 420 weekend the right way—with deep breaths\, good vibes\, and a little extra elevation.  See you on the mat!
URL:https://thetuftedpuffin.com/event/wake-n-bake-yoga-with-lady-grey/
LOCATION:The Tufted Puffin – Seward Harbor\, 408 Port Ave\, Seward\, AK\, United States
END:VEVENT
BEGIN:VEVENT
DTSTART;VALUE=DATE:20250420
DTEND;VALUE=DATE:20250421
DTSTAMP:20260424T132649
CREATED:20241209T223435Z
LAST-MODIFIED:20241209T223435Z
UID:16040-1745107200-1745193599@thetuftedpuffin.com
SUMMARY:420 Celebration Featuring Roland Roberts
DESCRIPTION:Join us at The Tufted Puffin Seward Harbor location for the biggest weed celebration of the year! We will be joined by musical guest Roland Roberts!  Roland Roberts is able to blend an array of genres into a captivation yet delicate musical experience. With comparisons to the likes of John Prine\, hiw storytelling and stage presence have entertained audiences across North America. \n 
URL:https://thetuftedpuffin.com/event/420-celebration-featuring-roland-roberts/
LOCATION:The Tufted Puffin – Seward Harbor\, 408 Port Ave\, Seward\, AK\, United States
END:VEVENT
BEGIN:VEVENT
DTSTART;TZID=UTC:20250419T120000
DTEND;TZID=UTC:20250420T220000
DTSTAMP:20260424T132649
CREATED:20250404T202306Z
LAST-MODIFIED:20250404T202306Z
UID:16824-1745064000-1745186400@thetuftedpuffin.com
SUMMARY:7th Annual 420 Celebration at The Tufted Puffin Seward Harbor
DESCRIPTION:Get Ready for The Tufted Puffin’s 7th Annual 420 Celebration in Seward\, Alaska! \n Join the Ultimate 420 Experience at The Tufted Puffin – April 19-20\, 2025!  \nSeward\, Alaska\, get ready! The 7th Annual 420 Celebration is back\, and it’s bigger than ever! Hosted by The Tufted Puffin Recreational Dispensary & Cannabis Café\, this two-day festival at the Seward Boat Harbor (408 Port Ave) is your go-to destination for music\, food\, local vendors\, and all things cannabis. \nWhether you’re a seasoned enthusiast or just looking for a great time\, this is the must-attend event of the year for anyone in Seward\, Anchorage\, and the Kenai Peninsula! \n \n Killer Live Music Lineup \nWe’ve got a stacked lineup of incredible musicians to keep the vibes high all weekend long: \nApril 19\, 2025 (Friday): \n 4:00 PM – 6:00 PM | DJ 2Stroke – Kicking off the event with high-energy beats to get the party started. \n 7:00 PM – 10:00 PM | Fyshbonez – This reggae-fusion powerhouse will have you dancing into the night! \nApril 20\, 2025 (Saturday): \n 4:00 PM – 7:00 PM | Childish Tycoon – A mix of hip-hop\, funk\, and psychedelic grooves to elevate your 420 celebration. \n 5:00 PM | Roland Roberts Band Meet & Greet + Poster Signing – Meet the headliners before they hit the stage! \n 7:00 PM – 10:00 PM | Roland Roberts Band (Headliner) – Blending folk\, blues\, and Americana\, this dynamic band will close out the festival in style. \n Food Trucks & Vendors \nFuel up with delicious eats from local food trucks\, offering everything from comfort food to gourmet treats. Plus\, browse a diverse selection of arts & crafts vendors\, featuring handcrafted goods\, cannabis accessories\, and unique souvenirs! \n Special 420 Events & Activities \nIt wouldn’t be a 420 festival without awesome cannabis-friendly activities! This year\, we’re bringing: \n Wake & Bake Yoga Session – Start your day with a relaxing\, elevated yoga flow. \n Tufted Tie-Dyeing Class – Create your own psychedelic tie-dye masterpiece! \n Blunt & Joint Rolling Competition – Think you can roll the perfect joint? Prove it and win prizes! \n Arts & Crafts Vendors – Explore handmade goods\, custom glass pieces\, and more! \n Why You Can’t Miss This Event! \n • The ONLY 420 festival in Seward\, Alaska! \n • Live music from top local and touring acts \n • Incredible food\, art\, and craft vendors \n • Fun competitions\, yoga\, and cannabis-themed activities \n • A community celebration like no other! \n WHERE: The Tufted Puffin Recreational Dispensary & Cannabis Café | 408 Port Ave\, Seward\, AK \n WHEN: April 19-20\, 2025 | 12:00 PM – 10:00 PM Daily \n MUST BE 21+ TO ATTEND \nThis once-a-year event is the perfect way to celebrate Alaska’s thriving cannabis culture\, enjoy live music\, and connect with the community. So grab your friends\, mark your calendars\, and get ready for an unforgettable 420 weekend at The Tufted Puffin! \n See you in Seward for the best 420 celebration in Alaska!
URL:https://thetuftedpuffin.com/event/7th-annual-420-celebration-at-the-tufted-puffin-seward-harbor/
LOCATION:The Tufted Puffin – Seward Harbor\, 408 Port Ave\, Seward\, AK\, United States
END:VEVENT
BEGIN:VEVENT
DTSTART;TZID=UTC:20241221T160000
DTEND;TZID=UTC:20241221T210000
DTSTAMP:20260424T132649
CREATED:20241129T192810Z
LAST-MODIFIED:20241209T222922Z
UID:15723-1734796800-1734814800@thetuftedpuffin.com
SUMMARY:New Years Eve at The Tufted Puffin Seward Harbor
DESCRIPTION:Join the Tufted Puffin on New Years Eve. We will be premiering our coffee service! That’s right we are officially a cannab is cafe serving delicious Cafe D’arte Coffee.  Come experience on sight consumption Tufted style December 21st 2024. \n  \n(21+) Licenses #17758\, #34856\, #36580 \n(A) “Marijuana has intoxicating effects and may be habit forming and addictive.”; (B) “Marijuana impairs concentration\, coordination\, and judgment. Do not operate a vehicle or machinery under its influence.”; (C) “There are health risks associated with consumption of marijuana.”; (D) “For use only by adults twenty-one and older. Keep out of the reach of children.”; (E) “Marijuana should not be used by women who are pregnant or breast feeding.”.
URL:https://thetuftedpuffin.com/event/winter-solstice-celebration-at-the-tufted-puffin-seward-harbor/
LOCATION:The Tufted Puffin – Seward Harbor\, 408 Port Ave\, Seward\, AK\, United States
END:VEVENT
END:VCALENDAR